BEGIN:VCALENDAR
VERSION:2.0
PRODID:-//First Baptist Church Of Buna Texas - ECPv6.15.20//NONSGML v1.0//EN
CALSCALE:GREGORIAN
METHOD:PUBLISH
X-ORIGINAL-URL:https://fbcbuna.com
X-WR-CALDESC:Events for First Baptist Church Of Buna Texas
REFRESH-INTERVAL;VALUE=DURATION:PT1H
X-Robots-Tag:noindex
X-PUBLISHED-TTL:PT1H
BEGIN:VTIMEZONE
TZID:America/Chicago
BEGIN:DAYLIGHT
TZOFFSETFROM:-0600
TZOFFSETTO:-0500
TZNAME:CDT
DTSTART:20210314T080000
END:DAYLIGHT
BEGIN:STANDARD
TZOFFSETFROM:-0500
TZOFFSETTO:-0600
TZNAME:CST
DTSTART:20211107T070000
END:STANDARD
BEGIN:DAYLIGHT
TZOFFSETFROM:-0600
TZOFFSETTO:-0500
TZNAME:CDT
DTSTART:20220313T080000
END:DAYLIGHT
BEGIN:STANDARD
TZOFFSETFROM:-0500
TZOFFSETTO:-0600
TZNAME:CST
DTSTART:20221106T070000
END:STANDARD
BEGIN:DAYLIGHT
TZOFFSETFROM:-0600
TZOFFSETTO:-0500
TZNAME:CDT
DTSTART:20230312T080000
END:DAYLIGHT
BEGIN:STANDARD
TZOFFSETFROM:-0500
TZOFFSETTO:-0600
TZNAME:CST
DTSTART:20231105T070000
END:STANDARD
BEGIN:DAYLIGHT
TZOFFSETFROM:-0600
TZOFFSETTO:-0500
TZNAME:CDT
DTSTART:20240310T080000
END:DAYLIGHT
BEGIN:STANDARD
TZOFFSETFROM:-0500
TZOFFSETTO:-0600
TZNAME:CST
DTSTART:20241103T070000
END:STANDARD
BEGIN:DAYLIGHT
TZOFFSETFROM:-0600
TZOFFSETTO:-0500
TZNAME:CDT
DTSTART:20250309T080000
END:DAYLIGHT
BEGIN:STANDARD
TZOFFSETFROM:-0500
TZOFFSETTO:-0600
TZNAME:CST
DTSTART:20251102T070000
END:STANDARD
END:VTIMEZONE
BEGIN:VEVENT
DTSTART;TZID=America/Chicago:20220418T180000
DTEND;TZID=America/Chicago:20220418T200000
DTSTAMP:20260425T104402
CREATED:20220328T174942Z
LAST-MODIFIED:20220328T174942Z
UID:4368-1650304800-1650312000@fbcbuna.com
SUMMARY:Women's Bible Study
DESCRIPTION:
URL:https://fbcbuna.com/event/womens-bible-study-31-2022-04-18/
LOCATION:FBC Buna\, 1155 Texas State Hwy 62 South\, Buna\, TX\, 77612\, United States
CATEGORIES:Women
END:VEVENT
BEGIN:VEVENT
DTSTART;TZID=America/Chicago:20220421T090000
DTEND;TZID=America/Chicago:20220421T110000
DTSTAMP:20260425T104402
CREATED:20220328T175101Z
LAST-MODIFIED:20220328T175101Z
UID:4374-1650531600-1650538800@fbcbuna.com
SUMMARY:Women's Bible Study
DESCRIPTION:
URL:https://fbcbuna.com/event/womens-bible-study-32-2022-04-21/
LOCATION:FBC Buna\, 1155 Texas State Hwy 62 South\, Buna\, TX\, 77612\, United States
CATEGORIES:Women
END:VEVENT
BEGIN:VEVENT
DTSTART;TZID=America/Chicago:20220425T180000
DTEND;TZID=America/Chicago:20220425T200000
DTSTAMP:20260425T104402
CREATED:20220328T174942Z
LAST-MODIFIED:20220328T174942Z
UID:4369-1650909600-1650916800@fbcbuna.com
SUMMARY:Women's Bible Study
DESCRIPTION:
URL:https://fbcbuna.com/event/womens-bible-study-31-2022-04-25/
LOCATION:FBC Buna\, 1155 Texas State Hwy 62 South\, Buna\, TX\, 77612\, United States
CATEGORIES:Women
END:VEVENT
BEGIN:VEVENT
DTSTART;TZID=America/Chicago:20220428T090000
DTEND;TZID=America/Chicago:20220428T110000
DTSTAMP:20260425T104402
CREATED:20220328T175101Z
LAST-MODIFIED:20220328T175101Z
UID:4375-1651136400-1651143600@fbcbuna.com
SUMMARY:Women's Bible Study
DESCRIPTION:
URL:https://fbcbuna.com/event/womens-bible-study-32-2022-04-28/
LOCATION:FBC Buna\, 1155 Texas State Hwy 62 South\, Buna\, TX\, 77612\, United States
CATEGORIES:Women
END:VEVENT
BEGIN:VEVENT
DTSTART;TZID=America/Chicago:20230210T183000
DTEND;TZID=America/Chicago:20230210T203000
DTSTAMP:20260425T104402
CREATED:20230107T180112Z
LAST-MODIFIED:20230107T180135Z
UID:4896-1676053800-1676061000@fbcbuna.com
SUMMARY:First Women's Jubilee Dinner
DESCRIPTION:
URL:https://fbcbuna.com/event/first-womens-jubilee-dinner/
LOCATION:TX
CATEGORIES:Women
END:VEVENT
BEGIN:VEVENT
DTSTART;TZID=America/Chicago:20240127T090000
DTEND;TZID=America/Chicago:20240127T150000
DTSTAMP:20260425T104402
CREATED:20240111T210157Z
LAST-MODIFIED:20240129T193423Z
UID:5407-1706346000-1706367600@fbcbuna.com
SUMMARY:First Ladies' Conference
DESCRIPTION:
URL:https://fbcbuna.com/event/first-ladies-conference/
LOCATION:TX
CATEGORIES:Women
END:VEVENT
BEGIN:VEVENT
DTSTART;TZID=America/Chicago:20240223T150000
DTEND;TZID=America/Chicago:20240224T133000
DTSTAMP:20260425T104402
CREATED:20240213T194946Z
LAST-MODIFIED:20240213T194946Z
UID:6014-1708700400-1708781400@fbcbuna.com
SUMMARY:Inspire Women's Conference
DESCRIPTION:
URL:https://fbcbuna.com/event/inspire-womens-conference/
LOCATION:ETBE\, 178 Private Road 7005\, Newton\, TX\, 75966
CATEGORIES:Women
END:VEVENT
BEGIN:VEVENT
DTSTART;TZID=America/Chicago:20240302T100000
DTEND;TZID=America/Chicago:20240302T120000
DTSTAMP:20260425T104402
CREATED:20240205T193109Z
LAST-MODIFIED:20240213T194443Z
UID:5935-1709373600-1709380800@fbcbuna.com
SUMMARY:Spring Painting Brunch
DESCRIPTION:
URL:https://fbcbuna.com/event/spring-painting-brunch/
LOCATION:FBC Youth Building\, 1155 Texas State Hwy 62 South\, Buna\, TX\, 77612\, United States
CATEGORIES:Women
END:VEVENT
END:VCALENDAR