BEGIN:VCALENDAR
VERSION:2.0
PRODID:-//First Baptist Church Of Buna Texas - ECPv6.15.20//NONSGML v1.0//EN
CALSCALE:GREGORIAN
METHOD:PUBLISH
X-ORIGINAL-URL:https://fbcbuna.com
X-WR-CALDESC:Events for First Baptist Church Of Buna Texas
REFRESH-INTERVAL;VALUE=DURATION:PT1H
X-Robots-Tag:noindex
X-PUBLISHED-TTL:PT1H
BEGIN:VTIMEZONE
TZID:America/Chicago
BEGIN:DAYLIGHT
TZOFFSETFROM:-0600
TZOFFSETTO:-0500
TZNAME:CDT
DTSTART:20190310T080000
END:DAYLIGHT
BEGIN:STANDARD
TZOFFSETFROM:-0500
TZOFFSETTO:-0600
TZNAME:CST
DTSTART:20191103T070000
END:STANDARD
BEGIN:DAYLIGHT
TZOFFSETFROM:-0600
TZOFFSETTO:-0500
TZNAME:CDT
DTSTART:20200308T080000
END:DAYLIGHT
BEGIN:STANDARD
TZOFFSETFROM:-0500
TZOFFSETTO:-0600
TZNAME:CST
DTSTART:20201101T070000
END:STANDARD
BEGIN:DAYLIGHT
TZOFFSETFROM:-0600
TZOFFSETTO:-0500
TZNAME:CDT
DTSTART:20210314T080000
END:DAYLIGHT
BEGIN:STANDARD
TZOFFSETFROM:-0500
TZOFFSETTO:-0600
TZNAME:CST
DTSTART:20211107T070000
END:STANDARD
END:VTIMEZONE
BEGIN:VEVENT
DTSTART;TZID=America/Chicago:20200701T180000
DTEND;TZID=America/Chicago:20200701T190000
DTSTAMP:20260423T213701
CREATED:20200610T193108Z
LAST-MODIFIED:20200610T193854Z
UID:2582-1593626400-1593630000@fbcbuna.com
SUMMARY:Youth Bible Study
DESCRIPTION:
URL:https://fbcbuna.com/event/youth-bible-study-3/
LOCATION:FBC Youth Building\, 1155 Texas State Hwy 62 South\, Buna\, TX\, 77612\, United States
CATEGORIES:Youth Ministry
END:VEVENT
BEGIN:VEVENT
DTSTART;TZID=America/Chicago:20200708T180000
DTEND;TZID=America/Chicago:20200708T190000
DTSTAMP:20260423T213701
CREATED:20200610T193217Z
LAST-MODIFIED:20200610T193848Z
UID:2586-1594231200-1594234800@fbcbuna.com
SUMMARY:Youth Bible Study
DESCRIPTION:
URL:https://fbcbuna.com/event/youth-bible-study-4/
LOCATION:FBC Youth Building\, 1155 Texas State Hwy 62 South\, Buna\, TX\, 77612\, United States
CATEGORIES:Youth Ministry
END:VEVENT
BEGIN:VEVENT
DTSTART;TZID=America/Chicago:20200715T180000
DTEND;TZID=America/Chicago:20200715T190000
DTSTAMP:20260423T213701
CREATED:20200610T193318Z
LAST-MODIFIED:20200610T193318Z
UID:2590-1594836000-1594839600@fbcbuna.com
SUMMARY:Youth Bible Study
DESCRIPTION:
URL:https://fbcbuna.com/event/youth-bible-study-5/
LOCATION:FBC Youth Building\, 1155 Texas State Hwy 62 South\, Buna\, TX\, 77612\, United States
CATEGORIES:Youth Ministry
END:VEVENT
BEGIN:VEVENT
DTSTART;TZID=America/Chicago:20200722T180000
DTEND;TZID=America/Chicago:20200722T190000
DTSTAMP:20260423T213701
CREATED:20200610T193727Z
LAST-MODIFIED:20200610T193727Z
UID:2594-1595440800-1595444400@fbcbuna.com
SUMMARY:Youth Bible Study
DESCRIPTION:
URL:https://fbcbuna.com/event/youth-bible-study-6/
LOCATION:FBC Youth Building\, 1155 Texas State Hwy 62 South\, Buna\, TX\, 77612\, United States
CATEGORIES:Youth Ministry
END:VEVENT
BEGIN:VEVENT
DTSTART;TZID=America/Chicago:20200729T180000
DTEND;TZID=America/Chicago:20200729T190000
DTSTAMP:20260423T213701
CREATED:20200610T193822Z
LAST-MODIFIED:20200610T193822Z
UID:2598-1596045600-1596049200@fbcbuna.com
SUMMARY:Youth Bible Study
DESCRIPTION:
URL:https://fbcbuna.com/event/youth-bible-study-7/
LOCATION:FBC Youth Building\, 1155 Texas State Hwy 62 South\, Buna\, TX\, 77612\, United States
CATEGORIES:Youth Ministry
END:VEVENT
END:VCALENDAR