BEGIN:VCALENDAR
VERSION:2.0
PRODID:-//First Baptist Church Of Buna Texas - ECPv6.15.20//NONSGML v1.0//EN
CALSCALE:GREGORIAN
METHOD:PUBLISH
X-ORIGINAL-URL:https://fbcbuna.com
X-WR-CALDESC:Events for First Baptist Church Of Buna Texas
REFRESH-INTERVAL;VALUE=DURATION:PT1H
X-Robots-Tag:noindex
X-PUBLISHED-TTL:PT1H
BEGIN:VTIMEZONE
TZID:America/Chicago
BEGIN:DAYLIGHT
TZOFFSETFROM:-0600
TZOFFSETTO:-0500
TZNAME:CDT
DTSTART:20200308T080000
END:DAYLIGHT
BEGIN:STANDARD
TZOFFSETFROM:-0500
TZOFFSETTO:-0600
TZNAME:CST
DTSTART:20201101T070000
END:STANDARD
BEGIN:DAYLIGHT
TZOFFSETFROM:-0600
TZOFFSETTO:-0500
TZNAME:CDT
DTSTART:20210314T080000
END:DAYLIGHT
BEGIN:STANDARD
TZOFFSETFROM:-0500
TZOFFSETTO:-0600
TZNAME:CST
DTSTART:20211107T070000
END:STANDARD
BEGIN:DAYLIGHT
TZOFFSETFROM:-0600
TZOFFSETTO:-0500
TZNAME:CDT
DTSTART:20220313T080000
END:DAYLIGHT
BEGIN:STANDARD
TZOFFSETFROM:-0500
TZOFFSETTO:-0600
TZNAME:CST
DTSTART:20221106T070000
END:STANDARD
END:VTIMEZONE
BEGIN:VEVENT
DTSTART;TZID=America/Chicago:20210315T183000
DTEND;TZID=America/Chicago:20210315T200000
DTSTAMP:20260423T100544
CREATED:20210315T162816Z
LAST-MODIFIED:20210319T150819Z
UID:3238-1615833000-1615838400@fbcbuna.com
SUMMARY:High School Boys Bible Study
DESCRIPTION:
URL:https://fbcbuna.com/event/high-school-boys-bible-study/
LOCATION:TX
CATEGORIES:Youth Ministry
END:VEVENT
BEGIN:VEVENT
DTSTART;TZID=America/Chicago:20210322T193000
DTEND;TZID=America/Chicago:20210322T210000
DTSTAMP:20260423T100544
CREATED:20210315T164120Z
LAST-MODIFIED:20210319T150921Z
UID:3243-1616441400-1616446800@fbcbuna.com
SUMMARY:High School Boys Bible Study
DESCRIPTION:
URL:https://fbcbuna.com/event/high-school-boys-bible-study-2/
LOCATION:FBC Youth Building\, 1155 Texas State Hwy 62 South\, Buna\, TX\, 77612\, United States
CATEGORIES:Youth Ministry
END:VEVENT
BEGIN:VEVENT
DTSTART;TZID=America/Chicago:20210327T180000
DTEND;TZID=America/Chicago:20210327T200000
DTSTAMP:20260423T100544
CREATED:20210224T170025Z
LAST-MODIFIED:20210224T170025Z
UID:3155-1616868000-1616875200@fbcbuna.com
SUMMARY:Family Feud - Youth Camp Fundraiser
DESCRIPTION:
URL:https://fbcbuna.com/event/family-feud-youth-camp-fundraiser/
LOCATION:FBC Buna Cab\, 1155 Texas State Hwy 62 South\, Buna\, TX\, 77612\, United States
CATEGORIES:Youth Ministry
END:VEVENT
BEGIN:VEVENT
DTSTART;TZID=America/Chicago:20210329T193000
DTEND;TZID=America/Chicago:20210329T210000
DTSTAMP:20260423T100544
CREATED:20210315T164938Z
LAST-MODIFIED:20210319T150955Z
UID:3247-1617046200-1617051600@fbcbuna.com
SUMMARY:High School Boys Bible Study
DESCRIPTION:
URL:https://fbcbuna.com/event/high-school-boys-bible-study-3/
LOCATION:FBC Youth Building\, 1155 Texas State Hwy 62 South\, Buna\, TX\, 77612\, United States
CATEGORIES:Youth Ministry
END:VEVENT
END:VCALENDAR