BEGIN:VCALENDAR
VERSION:2.0
PRODID:-//First Baptist Church Of Buna Texas - ECPv6.15.20//NONSGML v1.0//EN
CALSCALE:GREGORIAN
METHOD:PUBLISH
X-ORIGINAL-URL:https://fbcbuna.com
X-WR-CALDESC:Events for First Baptist Church Of Buna Texas
REFRESH-INTERVAL;VALUE=DURATION:PT1H
X-Robots-Tag:noindex
X-PUBLISHED-TTL:PT1H
BEGIN:VTIMEZONE
TZID:America/Chicago
BEGIN:DAYLIGHT
TZOFFSETFROM:-0600
TZOFFSETTO:-0500
TZNAME:CDT
DTSTART:20200308T080000
END:DAYLIGHT
BEGIN:STANDARD
TZOFFSETFROM:-0500
TZOFFSETTO:-0600
TZNAME:CST
DTSTART:20201101T070000
END:STANDARD
BEGIN:DAYLIGHT
TZOFFSETFROM:-0600
TZOFFSETTO:-0500
TZNAME:CDT
DTSTART:20210314T080000
END:DAYLIGHT
BEGIN:STANDARD
TZOFFSETFROM:-0500
TZOFFSETTO:-0600
TZNAME:CST
DTSTART:20211107T070000
END:STANDARD
BEGIN:DAYLIGHT
TZOFFSETFROM:-0600
TZOFFSETTO:-0500
TZNAME:CDT
DTSTART:20220313T080000
END:DAYLIGHT
BEGIN:STANDARD
TZOFFSETFROM:-0500
TZOFFSETTO:-0600
TZNAME:CST
DTSTART:20221106T070000
END:STANDARD
END:VTIMEZONE
BEGIN:VEVENT
DTSTART;TZID=America/Chicago:20210410T120000
DTEND;TZID=America/Chicago:20210410T150000
DTSTAMP:20260423T172311
CREATED:20210315T165420Z
LAST-MODIFIED:20210315T165512Z
UID:3257-1618056000-1618066800@fbcbuna.com
SUMMARY:Family Ministry Appreciation Day
DESCRIPTION:
URL:https://fbcbuna.com/event/family-ministry-appreciation-day/
LOCATION:FBC Youth Building\, 1155 Texas State Hwy 62 South\, Buna\, TX\, 77612\, United States
CATEGORIES:Children's Ministry,Youth Ministry
END:VEVENT
BEGIN:VEVENT
DTSTART;TZID=America/Chicago:20210412T193000
DTEND;TZID=America/Chicago:20210412T210000
DTSTAMP:20260423T172311
CREATED:20210315T165141Z
LAST-MODIFIED:20210319T151041Z
UID:3251-1618255800-1618261200@fbcbuna.com
SUMMARY:High School Boys Bible Study
DESCRIPTION:
URL:https://fbcbuna.com/event/high-school-boys-bible-study-5/
LOCATION:FBC Youth Building\, 1155 Texas State Hwy 62 South\, Buna\, TX\, 77612\, United States
CATEGORIES:Youth Ministry
END:VEVENT
BEGIN:VEVENT
DTSTART;TZID=America/Chicago:20210416T070000
DTEND;TZID=America/Chicago:20210416T080000
DTSTAMP:20260423T172311
CREATED:20210414T155742Z
LAST-MODIFIED:20210414T155854Z
UID:3470-1618556400-1618560000@fbcbuna.com
SUMMARY:High School Breakfast
DESCRIPTION:
URL:https://fbcbuna.com/event/high-school-breakfast/
LOCATION:FBC Youth Building\, 1155 Texas State Hwy 62 South\, Buna\, TX\, 77612\, United States
CATEGORIES:Youth Ministry
END:VEVENT
BEGIN:VEVENT
DTSTART;TZID=America/Chicago:20210418T160000
DTEND;TZID=America/Chicago:20210418T170000
DTSTAMP:20260423T172311
CREATED:20210414T160756Z
LAST-MODIFIED:20210414T160756Z
UID:3489-1618761600-1618765200@fbcbuna.com
SUMMARY:VBS Youth Training
DESCRIPTION:
URL:https://fbcbuna.com/event/vbs-youth-training/
LOCATION:FBC Youth Building\, 1155 Texas State Hwy 62 South\, Buna\, TX\, 77612\, United States
CATEGORIES:Youth Ministry
END:VEVENT
BEGIN:VEVENT
DTSTART;TZID=America/Chicago:20210419T193000
DTEND;TZID=America/Chicago:20210419T210000
DTSTAMP:20260423T172311
CREATED:20210315T165206Z
LAST-MODIFIED:20210319T151029Z
UID:3253-1618860600-1618866000@fbcbuna.com
SUMMARY:High School Boys Bible Study
DESCRIPTION:
URL:https://fbcbuna.com/event/high-school-boys-bible-study-6/
LOCATION:FBC Youth Building\, 1155 Texas State Hwy 62 South\, Buna\, TX\, 77612\, United States
CATEGORIES:Youth Ministry
END:VEVENT
BEGIN:VEVENT
DTSTART;TZID=America/Chicago:20210423T070000
DTEND;TZID=America/Chicago:20210423T080000
DTSTAMP:20260423T172311
CREATED:20210414T155934Z
LAST-MODIFIED:20210414T155934Z
UID:3474-1619161200-1619164800@fbcbuna.com
SUMMARY:High School Breakfast
DESCRIPTION:
URL:https://fbcbuna.com/event/high-school-breakfast-2/
LOCATION:FBC Youth Building\, 1155 Texas State Hwy 62 South\, Buna\, TX\, 77612\, United States
CATEGORIES:Youth Ministry
END:VEVENT
BEGIN:VEVENT
DTSTART;TZID=America/Chicago:20210425T160000
DTEND;TZID=America/Chicago:20210425T170000
DTSTAMP:20260423T172311
CREATED:20210414T163337Z
LAST-MODIFIED:20210414T163337Z
UID:3510-1619366400-1619370000@fbcbuna.com
SUMMARY:VBS Youth Training
DESCRIPTION:
URL:https://fbcbuna.com/event/vbs-youth-training-2/
LOCATION:FBC Buna\, 1155 Texas State Hwy 62 South\, Buna\, TX\, 77612\, United States
CATEGORIES:Youth Ministry
END:VEVENT
BEGIN:VEVENT
DTSTART;TZID=America/Chicago:20210426T193000
DTEND;TZID=America/Chicago:20210426T210000
DTSTAMP:20260423T172311
CREATED:20210315T165233Z
LAST-MODIFIED:20210319T151109Z
UID:3255-1619465400-1619470800@fbcbuna.com
SUMMARY:High School Boys Bible Study
DESCRIPTION:
URL:https://fbcbuna.com/event/high-school-boys-bible-study-7/
LOCATION:FBC Youth Building\, 1155 Texas State Hwy 62 South\, Buna\, TX\, 77612\, United States
CATEGORIES:Youth Ministry
END:VEVENT
BEGIN:VEVENT
DTSTART;VALUE=DATE:20210428
DTEND;VALUE=DATE:20210429
DTSTAMP:20260423T172311
CREATED:20210414T154653Z
LAST-MODIFIED:20210414T154704Z
UID:3463-1619568000-1619654399@fbcbuna.com
SUMMARY:Youth Camp Payment Due
DESCRIPTION:
URL:https://fbcbuna.com/event/youth-camp-payment-due/
LOCATION:FBC Buna\, 1155 Texas State Hwy 62 South\, Buna\, TX\, 77612\, United States
CATEGORIES:Youth Ministry
END:VEVENT
BEGIN:VEVENT
DTSTART;TZID=America/Chicago:20210430T070000
DTEND;TZID=America/Chicago:20210430T080000
DTSTAMP:20260423T172311
CREATED:20210414T160006Z
LAST-MODIFIED:20210414T160006Z
UID:3476-1619766000-1619769600@fbcbuna.com
SUMMARY:High School Breakfast
DESCRIPTION:
URL:https://fbcbuna.com/event/high-school-breakfast-3/
LOCATION:FBC Youth Building\, 1155 Texas State Hwy 62 South\, Buna\, TX\, 77612\, United States
CATEGORIES:Youth Ministry
END:VEVENT
BEGIN:VEVENT
DTSTART;TZID=America/Chicago:20210503T193000
DTEND;TZID=America/Chicago:20210503T210000
DTSTAMP:20260423T172311
CREATED:20210316T162551Z
LAST-MODIFIED:20210319T151118Z
UID:3276-1620070200-1620075600@fbcbuna.com
SUMMARY:High School Boys Bible Study
DESCRIPTION:
URL:https://fbcbuna.com/event/high-school-boys-bible-study-8/
LOCATION:FBC Youth Building\, 1155 Texas State Hwy 62 South\, Buna\, TX\, 77612\, United States
CATEGORIES:Youth Ministry
END:VEVENT
BEGIN:VEVENT
DTSTART;TZID=America/Chicago:20210507T070000
DTEND;TZID=America/Chicago:20210507T080000
DTSTAMP:20260423T172311
CREATED:20210414T160244Z
LAST-MODIFIED:20210414T160244Z
UID:3478-1620370800-1620374400@fbcbuna.com
SUMMARY:High School Breakfast
DESCRIPTION:
URL:https://fbcbuna.com/event/high-school-breakfast-4/
LOCATION:FBC Youth Building\, 1155 Texas State Hwy 62 South\, Buna\, TX\, 77612\, United States
CATEGORIES:Youth Ministry
END:VEVENT
BEGIN:VEVENT
DTSTART;TZID=America/Chicago:20210510T193000
DTEND;TZID=America/Chicago:20210510T210000
DTSTAMP:20260423T172311
CREATED:20210316T162625Z
LAST-MODIFIED:20210319T151332Z
UID:3278-1620675000-1620680400@fbcbuna.com
SUMMARY:High School Boys Bible Study
DESCRIPTION:
URL:https://fbcbuna.com/event/high-school-boys-bible-study-9/
LOCATION:FBC Youth Building\, 1155 Texas State Hwy 62 South\, Buna\, TX\, 77612\, United States
CATEGORIES:Youth Ministry
END:VEVENT
BEGIN:VEVENT
DTSTART;TZID=America/Chicago:20210514T070000
DTEND;TZID=America/Chicago:20210514T080000
DTSTAMP:20260423T172311
CREATED:20210414T160324Z
LAST-MODIFIED:20210414T160324Z
UID:3480-1620975600-1620979200@fbcbuna.com
SUMMARY:High School Breakfast
DESCRIPTION:
URL:https://fbcbuna.com/event/high-school-breakfast-5/
LOCATION:FBC Youth Building\, 1155 Texas State Hwy 62 South\, Buna\, TX\, 77612\, United States
CATEGORIES:Youth Ministry
END:VEVENT
BEGIN:VEVENT
DTSTART;TZID=America/Chicago:20210517T193000
DTEND;TZID=America/Chicago:20210517T210000
DTSTAMP:20260423T172311
CREATED:20210316T162655Z
LAST-MODIFIED:20210319T151341Z
UID:3280-1621279800-1621285200@fbcbuna.com
SUMMARY:High School Boys Bible Study
DESCRIPTION:
URL:https://fbcbuna.com/event/high-school-boys-bible-study-10/
LOCATION:FBC Youth Building\, 1155 Texas State Hwy 62 South\, Buna\, TX\, 77612\, United States
CATEGORIES:Youth Ministry
END:VEVENT
BEGIN:VEVENT
DTSTART;VALUE=DATE:20210519
DTEND;VALUE=DATE:20210520
DTSTAMP:20260423T172311
CREATED:20210414T154724Z
LAST-MODIFIED:20210414T154733Z
UID:3465-1621382400-1621468799@fbcbuna.com
SUMMARY:Youth Camp Payment Due
DESCRIPTION:
URL:https://fbcbuna.com/event/youth-camp-payment-due-2/
LOCATION:FBC Buna\, 1155 Texas State Hwy 62 South\, Buna\, TX\, 77612\, United States
CATEGORIES:Youth Ministry
END:VEVENT
BEGIN:VEVENT
DTSTART;TZID=America/Chicago:20210519T184500
DTEND;TZID=America/Chicago:20210519T193000
DTSTAMP:20260423T172311
CREATED:20210413T182902Z
LAST-MODIFIED:20210413T182945Z
UID:3446-1621449900-1621452600@fbcbuna.com
SUMMARY:Youth Camp Parent Meeting
DESCRIPTION:
URL:https://fbcbuna.com/event/youth-camp-parent-meeting/
LOCATION:FBC Youth Building\, 1155 Texas State Hwy 62 South\, Buna\, TX\, 77612\, United States
CATEGORIES:Youth Ministry
END:VEVENT
BEGIN:VEVENT
DTSTART;TZID=America/Chicago:20210521T070000
DTEND;TZID=America/Chicago:20210521T080000
DTSTAMP:20260423T172311
CREATED:20210414T160404Z
LAST-MODIFIED:20210414T160404Z
UID:3482-1621580400-1621584000@fbcbuna.com
SUMMARY:High School Breakfast
DESCRIPTION:
URL:https://fbcbuna.com/event/high-school-breakfast-6/
LOCATION:FBC Youth Building\, 1155 Texas State Hwy 62 South\, Buna\, TX\, 77612\, United States
CATEGORIES:Youth Ministry
END:VEVENT
BEGIN:VEVENT
DTSTART;TZID=America/Chicago:20210523T090000
DTEND;TZID=America/Chicago:20210523T113000
DTSTAMP:20260423T172311
CREATED:20210316T165551Z
LAST-MODIFIED:20210428T152749Z
UID:3292-1621760400-1621769400@fbcbuna.com
SUMMARY:Graduate Sunday
DESCRIPTION:
URL:https://fbcbuna.com/event/senior-sunday-2/
LOCATION:FBC Buna\, 1155 Texas State Hwy 62 South\, Buna\, TX\, 77612\, United States
CATEGORIES:Youth Ministry
END:VEVENT
BEGIN:VEVENT
DTSTART;TZID=America/Chicago:20210524T193000
DTEND;TZID=America/Chicago:20210524T210000
DTSTAMP:20260423T172311
CREATED:20210316T162725Z
LAST-MODIFIED:20210319T151350Z
UID:3282-1621884600-1621890000@fbcbuna.com
SUMMARY:High School Boys Bible Study
DESCRIPTION:
URL:https://fbcbuna.com/event/high-school-boys-bible-study-11/
LOCATION:FBC Youth Building\, 1155 Texas State Hwy 62 South\, Buna\, TX\, 77612\, United States
CATEGORIES:Youth Ministry
END:VEVENT
BEGIN:VEVENT
DTSTART;TZID=America/Chicago:20210530T130000
DTEND;TZID=America/Chicago:20210530T170000
DTSTAMP:20260423T172311
CREATED:20210426T155237Z
LAST-MODIFIED:20210503T160847Z
UID:3537-1622379600-1622394000@fbcbuna.com
SUMMARY:Youth Boys Skeet Shoot
DESCRIPTION:
URL:https://fbcbuna.com/event/youth-boys-skeet-shoot/
LOCATION:Mayes House
CATEGORIES:Youth Ministry
END:VEVENT
BEGIN:VEVENT
DTSTART;VALUE=DATE:20210616
DTEND;VALUE=DATE:20210617
DTSTAMP:20260423T172311
CREATED:20210414T154759Z
LAST-MODIFIED:20210414T154759Z
UID:3468-1623801600-1623887999@fbcbuna.com
SUMMARY:Youth Camp Payment Due
DESCRIPTION:
URL:https://fbcbuna.com/event/youth-camp-payment-due-3/
LOCATION:FBC Buna\, 1155 Texas State Hwy 62 South\, Buna\, TX\, 77612\, United States
CATEGORIES:Youth Ministry
END:VEVENT
BEGIN:VEVENT
DTSTART;TZID=America/Chicago:20210623T184500
DTEND;TZID=America/Chicago:20210623T193000
DTSTAMP:20260423T172311
CREATED:20210413T183023Z
LAST-MODIFIED:20210413T183511Z
UID:3450-1624473900-1624476600@fbcbuna.com
SUMMARY:Youth Camp Parent Meeting
DESCRIPTION:
URL:https://fbcbuna.com/event/youth-camp-parent-meeting-2/
LOCATION:FBC Youth Building\, 1155 Texas State Hwy 62 South\, Buna\, TX\, 77612\, United States
CATEGORIES:Youth Ministry
END:VEVENT
BEGIN:VEVENT
DTSTART;TZID=America/Chicago:20210702T090000
DTEND;TZID=America/Chicago:20210702T130000
DTSTAMP:20260423T172311
CREATED:20210629T153024Z
LAST-MODIFIED:20210629T153044Z
UID:3649-1625216400-1625230800@fbcbuna.com
SUMMARY:Open Gym
DESCRIPTION:
URL:https://fbcbuna.com/event/open-gym/
LOCATION:FBC Buna Cab\, 1155 Texas State Hwy 62 South\, Buna\, TX\, 77612\, United States
CATEGORIES:Youth Ministry
END:VEVENT
BEGIN:VEVENT
DTSTART;VALUE=DATE:20210705
DTEND;VALUE=DATE:20210710
DTSTAMP:20260423T172311
CREATED:20210222T210948Z
LAST-MODIFIED:20210222T210948Z
UID:3153-1625443200-1625875199@fbcbuna.com
SUMMARY:Youth Camp
DESCRIPTION:
URL:https://fbcbuna.com/event/youth-camp/
LOCATION:TX
CATEGORIES:Youth Ministry
END:VEVENT
BEGIN:VEVENT
DTSTART;TZID=America/Chicago:20210712T180000
DTEND;TZID=America/Chicago:20210712T200000
DTSTAMP:20260423T172311
CREATED:20210707T151829Z
LAST-MODIFIED:20210707T151829Z
UID:3676-1626112800-1626120000@fbcbuna.com
SUMMARY:High School Boys Bible Study
DESCRIPTION:
URL:https://fbcbuna.com/event/high-school-boys-bible-study-12/
LOCATION:FBC Youth Building\, 1155 Texas State Hwy 62 South\, Buna\, TX\, 77612\, United States
CATEGORIES:Youth Ministry
END:VEVENT
BEGIN:VEVENT
DTSTART;TZID=America/Chicago:20210719T180000
DTEND;TZID=America/Chicago:20210719T200000
DTSTAMP:20260423T172311
CREATED:20210707T151956Z
LAST-MODIFIED:20210707T151956Z
UID:3679-1626717600-1626724800@fbcbuna.com
SUMMARY:High School Boys Bible Study
DESCRIPTION:
URL:https://fbcbuna.com/event/high-school-boys-bible-study-13/
LOCATION:FBC Youth Building\, 1155 Texas State Hwy 62 South\, Buna\, TX\, 77612\, United States
CATEGORIES:Youth Ministry
END:VEVENT
BEGIN:VEVENT
DTSTART;TZID=America/Chicago:20210726T180000
DTEND;TZID=America/Chicago:20210726T200000
DTSTAMP:20260423T172311
CREATED:20210707T152044Z
LAST-MODIFIED:20210707T152044Z
UID:3681-1627322400-1627329600@fbcbuna.com
SUMMARY:High School Boys Bible Study
DESCRIPTION:
URL:https://fbcbuna.com/event/high-school-boys-bible-study-14/
LOCATION:FBC Youth Building\, 1155 Texas State Hwy 62 South\, Buna\, TX\, 77612\, United States
CATEGORIES:Youth Ministry
END:VEVENT
BEGIN:VEVENT
DTSTART;TZID=America/Chicago:20210802T180000
DTEND;TZID=America/Chicago:20210802T200000
DTSTAMP:20260423T172311
CREATED:20210720T154009Z
LAST-MODIFIED:20210720T154009Z
UID:3742-1627927200-1627934400@fbcbuna.com
SUMMARY:High School Boys Bible Study
DESCRIPTION:
URL:https://fbcbuna.com/event/high-school-boys-bible-study-15/
LOCATION:FBC Youth Building\, 1155 Texas State Hwy 62 South\, Buna\, TX\, 77612\, United States
CATEGORIES:Youth Ministry
END:VEVENT
BEGIN:VEVENT
DTSTART;VALUE=DATE:20210807
DTEND;VALUE=DATE:20210808
DTSTAMP:20260423T172311
CREATED:20210414T153016Z
LAST-MODIFIED:20210729T154519Z
UID:3455-1628294400-1628380799@fbcbuna.com
SUMMARY:Youth August Awakening
DESCRIPTION:
URL:https://fbcbuna.com/event/youth-august-awakening/
LOCATION:FBC Buna Cab\, 1155 Texas State Hwy 62 South\, Buna\, TX\, 77612\, United States
CATEGORIES:Youth Ministry
END:VEVENT
END:VCALENDAR