BEGIN:VCALENDAR
VERSION:2.0
PRODID:-//First Baptist Church Of Buna Texas - ECPv6.15.20//NONSGML v1.0//EN
CALSCALE:GREGORIAN
METHOD:PUBLISH
X-ORIGINAL-URL:https://fbcbuna.com
X-WR-CALDESC:Events for First Baptist Church Of Buna Texas
REFRESH-INTERVAL;VALUE=DURATION:PT1H
X-Robots-Tag:noindex
X-PUBLISHED-TTL:PT1H
BEGIN:VTIMEZONE
TZID:America/Chicago
BEGIN:DAYLIGHT
TZOFFSETFROM:-0600
TZOFFSETTO:-0500
TZNAME:CDT
DTSTART:20200308T080000
END:DAYLIGHT
BEGIN:STANDARD
TZOFFSETFROM:-0500
TZOFFSETTO:-0600
TZNAME:CST
DTSTART:20201101T070000
END:STANDARD
BEGIN:DAYLIGHT
TZOFFSETFROM:-0600
TZOFFSETTO:-0500
TZNAME:CDT
DTSTART:20210314T080000
END:DAYLIGHT
BEGIN:STANDARD
TZOFFSETFROM:-0500
TZOFFSETTO:-0600
TZNAME:CST
DTSTART:20211107T070000
END:STANDARD
BEGIN:DAYLIGHT
TZOFFSETFROM:-0600
TZOFFSETTO:-0500
TZNAME:CDT
DTSTART:20220313T080000
END:DAYLIGHT
BEGIN:STANDARD
TZOFFSETFROM:-0500
TZOFFSETTO:-0600
TZNAME:CST
DTSTART:20221106T070000
END:STANDARD
BEGIN:DAYLIGHT
TZOFFSETFROM:-0600
TZOFFSETTO:-0500
TZNAME:CDT
DTSTART:20230312T080000
END:DAYLIGHT
BEGIN:STANDARD
TZOFFSETFROM:-0500
TZOFFSETTO:-0600
TZNAME:CST
DTSTART:20231105T070000
END:STANDARD
END:VTIMEZONE
BEGIN:VEVENT
DTSTART;TZID=America/Chicago:20210802T180000
DTEND;TZID=America/Chicago:20210802T200000
DTSTAMP:20260423T173417
CREATED:20210720T154009Z
LAST-MODIFIED:20210720T154009Z
UID:3742-1627927200-1627934400@fbcbuna.com
SUMMARY:High School Boys Bible Study
DESCRIPTION:
URL:https://fbcbuna.com/event/high-school-boys-bible-study-15/
LOCATION:FBC Youth Building\, 1155 Texas State Hwy 62 South\, Buna\, TX\, 77612\, United States
CATEGORIES:Youth Ministry
END:VEVENT
BEGIN:VEVENT
DTSTART;VALUE=DATE:20210807
DTEND;VALUE=DATE:20210808
DTSTAMP:20260423T173417
CREATED:20210414T153016Z
LAST-MODIFIED:20210729T154519Z
UID:3455-1628294400-1628380799@fbcbuna.com
SUMMARY:Youth August Awakening
DESCRIPTION:
URL:https://fbcbuna.com/event/youth-august-awakening/
LOCATION:FBC Buna Cab\, 1155 Texas State Hwy 62 South\, Buna\, TX\, 77612\, United States
CATEGORIES:Youth Ministry
END:VEVENT
BEGIN:VEVENT
DTSTART;TZID=America/Chicago:20210811T153000
DTEND;TZID=America/Chicago:20210811T190000
DTSTAMP:20260423T173417
CREATED:20210317T141028Z
LAST-MODIFIED:20210707T185937Z
UID:3306-1628695800-1628708400@fbcbuna.com
SUMMARY:Wednesday Youth Activities Resume
DESCRIPTION:
URL:https://fbcbuna.com/event/wednesday-evening-activities-resume/
LOCATION:FBC Buna\, 1155 Texas State Hwy 62 South\, Buna\, TX\, 77612\, United States
CATEGORIES:Youth Ministry
END:VEVENT
BEGIN:VEVENT
DTSTART;TZID=America/Chicago:20210901T153000
DTEND;TZID=America/Chicago:20210901T190000
DTSTAMP:20260423T173417
CREATED:20210707T190034Z
LAST-MODIFIED:20210707T190034Z
UID:3730-1630510200-1630522800@fbcbuna.com
SUMMARY:All Wednesday Ministry Activities Resume
DESCRIPTION:
URL:https://fbcbuna.com/event/all-wednesday-ministry-activities-resume/
LOCATION:TX
CATEGORIES:Children's Choir,Nursery & Preschool,Youth Ministry
END:VEVENT
BEGIN:VEVENT
DTSTART;TZID=America/Chicago:20210913T180000
DTEND;TZID=America/Chicago:20210913T200000
DTSTAMP:20260423T173417
CREATED:20210810T162739Z
LAST-MODIFIED:20210909T193737Z
UID:3912-1631556000-1631563200@fbcbuna.com
SUMMARY:High School Boys Bible Study
DESCRIPTION:
URL:https://fbcbuna.com/event/high-school-boys-bible-study-16/
LOCATION:FBC Youth Building\, 1155 Texas State Hwy 62 South\, Buna\, TX\, 77612\, United States
CATEGORIES:Youth Ministry
END:VEVENT
BEGIN:VEVENT
DTSTART;TZID=America/Chicago:20210917T213000
DTEND;TZID=America/Chicago:20210917T235900
DTSTAMP:20260423T173417
CREATED:20210909T143557Z
LAST-MODIFIED:20210909T143557Z
UID:4041-1631914200-1631923140@fbcbuna.com
SUMMARY:5th Quarter - FBC Buna
DESCRIPTION:
URL:https://fbcbuna.com/event/5th-quarter-fbc-buna-2/
LOCATION:FBC Youth Building\, 1155 Texas State Hwy 62 South\, Buna\, TX\, 77612\, United States
CATEGORIES:Youth Ministry
END:VEVENT
BEGIN:VEVENT
DTSTART;TZID=America/Chicago:20210917T213000
DTEND;TZID=America/Chicago:20210917T235900
DTSTAMP:20260423T173417
CREATED:20210918T012228Z
LAST-MODIFIED:20210908T201100Z
UID:3943-1631914200-1631923140@fbcbuna.com
SUMMARY:5th Quarter - FBC Buna
DESCRIPTION:
URL:https://fbcbuna.com/event/5th-quarter-fbc-buna/
LOCATION:TX
CATEGORIES:Youth Ministry
END:VEVENT
BEGIN:VEVENT
DTSTART;TZID=America/Chicago:20210922T070000
DTEND;TZID=America/Chicago:20210922T080000
DTSTAMP:20260423T173417
CREATED:20210804T191121Z
LAST-MODIFIED:20210818T012443Z
UID:3846-1632294000-1632297600@fbcbuna.com
SUMMARY:SYATP
DESCRIPTION:
URL:https://fbcbuna.com/event/syatp-2/
LOCATION:TX
CATEGORIES:Youth Ministry
END:VEVENT
BEGIN:VEVENT
DTSTART;TZID=America/Chicago:20210922T180000
DTEND;TZID=America/Chicago:20210922T193000
DTSTAMP:20260423T173417
CREATED:20210818T012526Z
LAST-MODIFIED:20210902T013730Z
UID:3951-1632333600-1632339000@fbcbuna.com
SUMMARY:Saw You At The Pole
DESCRIPTION:
URL:https://fbcbuna.com/event/saw-you-at-the-pole/
LOCATION:TX
CATEGORIES:Youth Ministry
END:VEVENT
BEGIN:VEVENT
DTSTART;TZID=America/Chicago:20211031T180000
DTEND;TZID=America/Chicago:20211031T200000
DTSTAMP:20260423T173417
CREATED:20210927T192138Z
LAST-MODIFIED:20210927T192138Z
UID:4079-1635703200-1635710400@fbcbuna.com
SUMMARY:Youth Fall Fest
DESCRIPTION:
URL:https://fbcbuna.com/event/youth-fall-fest/
LOCATION:TX
CATEGORIES:Youth Ministry
END:VEVENT
BEGIN:VEVENT
DTSTART;TZID=America/Chicago:20211124T153000
DTEND;TZID=America/Chicago:20211124T190000
DTSTAMP:20260423T173417
CREATED:20210317T143932Z
LAST-MODIFIED:20210317T143932Z
UID:3329-1637767800-1637780400@fbcbuna.com
SUMMARY:No Wednesday Evening Ministries
DESCRIPTION:
URL:https://fbcbuna.com/event/no-wednesday-evening-ministries/
LOCATION:FBC Buna\, 1155 Texas State Hwy 62 South\, Buna\, TX\, 77612\, United States
CATEGORIES:Children's Ministry,Nursery & Preschool,Youth Ministry
END:VEVENT
BEGIN:VEVENT
DTSTART;TZID=America/Chicago:20211222T153000
DTEND;TZID=America/Chicago:20211222T190000
DTSTAMP:20260423T173417
CREATED:20210317T150810Z
LAST-MODIFIED:20210317T150810Z
UID:3337-1640187000-1640199600@fbcbuna.com
SUMMARY:No Wednesday Evening Ministries
DESCRIPTION:
URL:https://fbcbuna.com/event/no-wednesday-evening-ministries-2/
LOCATION:TX
CATEGORIES:Children's Ministry,Nursery & Preschool,Youth Ministry
END:VEVENT
BEGIN:VEVENT
DTSTART;TZID=America/Chicago:20211229T153000
DTEND;TZID=America/Chicago:20211229T190000
DTSTAMP:20260423T173417
CREATED:20210317T150855Z
LAST-MODIFIED:20210317T150855Z
UID:3339-1640791800-1640804400@fbcbuna.com
SUMMARY:No Wednesday Evening Ministries
DESCRIPTION:
URL:https://fbcbuna.com/event/no-wednesday-evening-ministries-3/
LOCATION:FBC Buna\, 1155 Texas State Hwy 62 South\, Buna\, TX\, 77612\, United States
CATEGORIES:Children's Ministry,Nursery & Preschool,Youth Ministry
END:VEVENT
BEGIN:VEVENT
DTSTART;TZID=America/Chicago:20220328T180000
DTEND;TZID=America/Chicago:20220328T210000
DTSTAMP:20260423T173417
CREATED:20220328T174752Z
LAST-MODIFIED:20220328T174752Z
UID:4342-1648490400-1648501200@fbcbuna.com
SUMMARY:HS Boys Bible Study
DESCRIPTION:
URL:https://fbcbuna.com/event/hs-boys-bible-study/
LOCATION:FBC Buna\, 1155 Texas State Hwy 62 South\, Buna\, TX\, 77612\, United States
CATEGORIES:Youth Ministry
END:VEVENT
BEGIN:VEVENT
DTSTART;TZID=America/Chicago:20220404T180000
DTEND;TZID=America/Chicago:20220404T210000
DTSTAMP:20260423T173417
CREATED:20220328T174752Z
LAST-MODIFIED:20220328T174752Z
UID:4344-1649095200-1649106000@fbcbuna.com
SUMMARY:HS Boys Bible Study
DESCRIPTION:
URL:https://fbcbuna.com/event/hs-boys-bible-study-2022-04-04/
LOCATION:FBC Buna\, 1155 Texas State Hwy 62 South\, Buna\, TX\, 77612\, United States
CATEGORIES:Youth Ministry
END:VEVENT
BEGIN:VEVENT
DTSTART;TZID=America/Chicago:20220409T110000
DTEND;TZID=America/Chicago:20220409T140000
DTSTAMP:20260423T173417
CREATED:20220328T175443Z
LAST-MODIFIED:20220328T175443Z
UID:4376-1649502000-1649512800@fbcbuna.com
SUMMARY:Children/Youth Ministry Volunteer Appreciation Lunch
DESCRIPTION:
URL:https://fbcbuna.com/event/children-youth-ministry-volunteer-appreciation-lunch/
LOCATION:FBC Youth Building\, 1155 Texas State Hwy 62 South\, Buna\, TX\, 77612\, United States
CATEGORIES:Children's Ministry,Youth Ministry
END:VEVENT
BEGIN:VEVENT
DTSTART;TZID=America/Chicago:20220411T180000
DTEND;TZID=America/Chicago:20220411T210000
DTSTAMP:20260423T173417
CREATED:20220328T174752Z
LAST-MODIFIED:20220328T174752Z
UID:4345-1649700000-1649710800@fbcbuna.com
SUMMARY:HS Boys Bible Study
DESCRIPTION:
URL:https://fbcbuna.com/event/hs-boys-bible-study-2022-04-11/
LOCATION:FBC Buna\, 1155 Texas State Hwy 62 South\, Buna\, TX\, 77612\, United States
CATEGORIES:Youth Ministry
END:VEVENT
BEGIN:VEVENT
DTSTART;TZID=America/Chicago:20220418T180000
DTEND;TZID=America/Chicago:20220418T210000
DTSTAMP:20260423T173417
CREATED:20220328T174752Z
LAST-MODIFIED:20220328T174752Z
UID:4346-1650304800-1650315600@fbcbuna.com
SUMMARY:HS Boys Bible Study
DESCRIPTION:
URL:https://fbcbuna.com/event/hs-boys-bible-study-2022-04-18/
LOCATION:FBC Buna\, 1155 Texas State Hwy 62 South\, Buna\, TX\, 77612\, United States
CATEGORIES:Youth Ministry
END:VEVENT
BEGIN:VEVENT
DTSTART;TZID=America/Chicago:20220425T180000
DTEND;TZID=America/Chicago:20220425T210000
DTSTAMP:20260423T173417
CREATED:20220328T174752Z
LAST-MODIFIED:20220328T174752Z
UID:4347-1650909600-1650920400@fbcbuna.com
SUMMARY:HS Boys Bible Study
DESCRIPTION:
URL:https://fbcbuna.com/event/hs-boys-bible-study-2022-04-25/
LOCATION:FBC Buna\, 1155 Texas State Hwy 62 South\, Buna\, TX\, 77612\, United States
CATEGORIES:Youth Ministry
END:VEVENT
BEGIN:VEVENT
DTSTART;TZID=America/Chicago:20220502T180000
DTEND;TZID=America/Chicago:20220502T210000
DTSTAMP:20260423T173417
CREATED:20220328T174752Z
LAST-MODIFIED:20220328T174752Z
UID:4348-1651514400-1651525200@fbcbuna.com
SUMMARY:HS Boys Bible Study
DESCRIPTION:
URL:https://fbcbuna.com/event/hs-boys-bible-study-2022-05-02/
LOCATION:FBC Buna\, 1155 Texas State Hwy 62 South\, Buna\, TX\, 77612\, United States
CATEGORIES:Youth Ministry
END:VEVENT
BEGIN:VEVENT
DTSTART;TZID=America/Chicago:20220509T180000
DTEND;TZID=America/Chicago:20220509T210000
DTSTAMP:20260423T173417
CREATED:20220328T174752Z
LAST-MODIFIED:20220328T174752Z
UID:4349-1652119200-1652130000@fbcbuna.com
SUMMARY:HS Boys Bible Study
DESCRIPTION:
URL:https://fbcbuna.com/event/hs-boys-bible-study-2022-05-09/
LOCATION:FBC Buna\, 1155 Texas State Hwy 62 South\, Buna\, TX\, 77612\, United States
CATEGORIES:Youth Ministry
END:VEVENT
BEGIN:VEVENT
DTSTART;TZID=America/Chicago:20220516T180000
DTEND;TZID=America/Chicago:20220516T210000
DTSTAMP:20260423T173417
CREATED:20220328T174752Z
LAST-MODIFIED:20220328T174752Z
UID:4350-1652724000-1652734800@fbcbuna.com
SUMMARY:HS Boys Bible Study
DESCRIPTION:
URL:https://fbcbuna.com/event/hs-boys-bible-study-2022-05-16/
LOCATION:FBC Buna\, 1155 Texas State Hwy 62 South\, Buna\, TX\, 77612\, United States
CATEGORIES:Youth Ministry
END:VEVENT
BEGIN:VEVENT
DTSTART;VALUE=DATE:20220522
DTEND;VALUE=DATE:20220523
DTSTAMP:20260423T173417
CREATED:20220328T180401Z
LAST-MODIFIED:20220328T180401Z
UID:4407-1653177600-1653263999@fbcbuna.com
SUMMARY:Grad Breakfast & Recognition
DESCRIPTION:
URL:https://fbcbuna.com/event/grad-breakfast-recognition/
LOCATION:FBC Buna\, 1155 Texas State Hwy 62 South\, Buna\, TX\, 77612\, United States
CATEGORIES:Youth Ministry
END:VEVENT
BEGIN:VEVENT
DTSTART;TZID=America/Chicago:20220523T180000
DTEND;TZID=America/Chicago:20220523T210000
DTSTAMP:20260423T173417
CREATED:20220328T174752Z
LAST-MODIFIED:20220328T174752Z
UID:4351-1653328800-1653339600@fbcbuna.com
SUMMARY:HS Boys Bible Study
DESCRIPTION:
URL:https://fbcbuna.com/event/hs-boys-bible-study-2022-05-23/
LOCATION:FBC Buna\, 1155 Texas State Hwy 62 South\, Buna\, TX\, 77612\, United States
CATEGORIES:Youth Ministry
END:VEVENT
BEGIN:VEVENT
DTSTART;TZID=America/Chicago:20220525T170000
DTEND;TZID=America/Chicago:20220525T190000
DTSTAMP:20260423T173417
CREATED:20220328T180548Z
LAST-MODIFIED:20220328T180548Z
UID:4411-1653498000-1653505200@fbcbuna.com
SUMMARY:Last Wed Night Ministries for Year
DESCRIPTION:
URL:https://fbcbuna.com/event/last-wed-night-ministries-for-year/
LOCATION:FBC Buna\, 1155 Texas State Hwy 62 South\, Buna\, TX\, 77612\, United States
CATEGORIES:Children's Ministry,Youth Ministry
END:VEVENT
BEGIN:VEVENT
DTSTART;TZID=America/Chicago:20220530T180000
DTEND;TZID=America/Chicago:20220530T210000
DTSTAMP:20260423T173417
CREATED:20220328T174752Z
LAST-MODIFIED:20220328T174752Z
UID:4352-1653933600-1653944400@fbcbuna.com
SUMMARY:HS Boys Bible Study
DESCRIPTION:
URL:https://fbcbuna.com/event/hs-boys-bible-study-2022-05-30/
LOCATION:FBC Buna\, 1155 Texas State Hwy 62 South\, Buna\, TX\, 77612\, United States
CATEGORIES:Youth Ministry
END:VEVENT
BEGIN:VEVENT
DTSTART;TZID=America/Chicago:20220606T180000
DTEND;TZID=America/Chicago:20220606T210000
DTSTAMP:20260423T173417
CREATED:20220328T174752Z
LAST-MODIFIED:20220328T174752Z
UID:4353-1654538400-1654549200@fbcbuna.com
SUMMARY:HS Boys Bible Study
DESCRIPTION:
URL:https://fbcbuna.com/event/hs-boys-bible-study-2022-06-06/
LOCATION:FBC Buna\, 1155 Texas State Hwy 62 South\, Buna\, TX\, 77612\, United States
CATEGORIES:Youth Ministry
END:VEVENT
BEGIN:VEVENT
DTSTART;TZID=America/Chicago:20220613T180000
DTEND;TZID=America/Chicago:20220613T210000
DTSTAMP:20260423T173417
CREATED:20220328T174752Z
LAST-MODIFIED:20220328T174752Z
UID:4354-1655143200-1655154000@fbcbuna.com
SUMMARY:HS Boys Bible Study
DESCRIPTION:
URL:https://fbcbuna.com/event/hs-boys-bible-study-2022-06-13/
LOCATION:FBC Buna\, 1155 Texas State Hwy 62 South\, Buna\, TX\, 77612\, United States
CATEGORIES:Youth Ministry
END:VEVENT
BEGIN:VEVENT
DTSTART;TZID=America/Chicago:20220620T180000
DTEND;TZID=America/Chicago:20220620T210000
DTSTAMP:20260423T173417
CREATED:20220328T174752Z
LAST-MODIFIED:20220328T174752Z
UID:4355-1655748000-1655758800@fbcbuna.com
SUMMARY:HS Boys Bible Study
DESCRIPTION:
URL:https://fbcbuna.com/event/hs-boys-bible-study-2022-06-20/
LOCATION:FBC Buna\, 1155 Texas State Hwy 62 South\, Buna\, TX\, 77612\, United States
CATEGORIES:Youth Ministry
END:VEVENT
BEGIN:VEVENT
DTSTART;TZID=America/Chicago:20220627T180000
DTEND;TZID=America/Chicago:20220627T210000
DTSTAMP:20260423T173417
CREATED:20220328T174752Z
LAST-MODIFIED:20220328T174752Z
UID:4356-1656352800-1656363600@fbcbuna.com
SUMMARY:HS Boys Bible Study
DESCRIPTION:
URL:https://fbcbuna.com/event/hs-boys-bible-study-2022-06-27/
LOCATION:FBC Buna\, 1155 Texas State Hwy 62 South\, Buna\, TX\, 77612\, United States
CATEGORIES:Youth Ministry
END:VEVENT
END:VCALENDAR